BEGIN:VCALENDAR
VERSION:2.0
PRODID:www.knox.vic.gov.au
BEGIN:VEVENT
UID:69e83af47bb97
DTSTART:20260603T060000Z
SEQUENCE:0
TRANSP:OPAQUE
DTEND:20260603T073000Z
URL:https://www.knox.vic.gov.au/whats-happening/events-activities-and-festi
 vals/events-calendar/carrots-and-sticks-better-ways-build-boundaries-child
 ren
LOCATION:Knox Civic Centre511 Burwood HighwayWantirna South\, basic_html
SUMMARY:Carrots and Sticks: Better Ways to Build Boundaries with Children
CLASS:PUBLIC
DESCRIPTION:Knox City Council is hosting a free session for early years pro
 fessionals with psychologist Justin Coulson.
DTSTAMP:20260422T030524Z
END:VEVENT
END:VCALENDAR