BEGIN:VCALENDAR
VERSION:2.0
PRODID:www.knox.vic.gov.au
BEGIN:VEVENT
UID:69e83a80b9388
DTSTART:20260603T083000Z
SEQUENCE:0
TRANSP:OPAQUE
DTEND:20260603T100000Z
URL:https://www.knox.vic.gov.au/whats-happening/events-activities-and-festi
 vals/events-calendar/better-ways-build-boundaries-your-kids
LOCATION:Knox Civic Centre511 Burwood HighwayWantirna South\, basic_html
SUMMARY:Carrots and Sticks: Better Ways to Build Boundaries with Your Kids 
CLASS:PUBLIC
DESCRIPTION:Knox City Council is hosting a free session for parents with ps
 ychologist Justin Coulson.
DTSTAMP:20260422T030328Z
END:VEVENT
END:VCALENDAR