BEGIN:VCALENDAR
VERSION:2.0
PRODID:www.knox.vic.gov.au
BEGIN:VEVENT
UID:69e8b7f5d8664
DTSTART:20260616T090000Z
SEQUENCE:0
TRANSP:OPAQUE
DTEND:20260616T113000Z
URL:https://www.knox.vic.gov.au/whats-happening/events-activities-and-festi
 vals/events-calendar/relationships-sexuality-and-pornography-supporting-au
 tistic-young-people
LOCATION:Online via Zoom \, basic_html
SUMMARY:Relationships\, sexuality and pornography – supporting autistic y
 oung people  
CLASS:PUBLIC
DESCRIPTION:Learn how to support autistic young people to develop and navig
 ate healthy relationships and sexuality. 
DTSTAMP:20260422T115845Z
END:VEVENT
END:VCALENDAR